BEGIN:VCALENDAR
PRODID:-//biztributor//NONSGML biztributor//HU
VERSION:2.0
X-WR-CALNAME:biztributor
BEGIN:VTIMEZONE
TZID:Central Europe Standard Time
BEGIN:STANDARD
DTSTART:16011028T030000
RRULE:FREQ=YEARLY;BYDAY=-1SU;BYMONTH=10
TZOFFSETFROM:+0200
TZOFFSETTO:+0100
TZNAME:CET
END:STANDARD
BEGIN:DAYLIGHT
DTSTART:16010325T020000
RRULE:FREQ=YEARLY;BYDAY=-1SU;BYMONTH=3
TZOFFSETFROM:+0100
TZOFFSETTO:+0200
TZNAME:CEST
END:DAYLIGHT
END:VTIMEZONE
BEGIN:VEVENT
CREATED:20240912T120032Z
LAST-MODIFIED:20240904T142628Z
UID:18092-20240912T140000@biztributor.hu
DTSTART;TZID=Central Europe Standard Time:20240912T140000
DTEND;TZID=Central Europe Standard Time:20240912T190000
DTSTAMP:20260424T172106Z
LOCATION:Tahitótfalu\, Dunaparti utca 11.
DESCRIPTION:biztributor Cyber Monsters - Trabant Puzzle Időpont: 2024. sz
 eptember 12. csütörtök 14:00 - 18:00 Helyszín: Tahitótfalu\, Dunaparti ut
 ca 11.
SUMMARY;LANGUAGE=hu:CyberMonsters | Trabant-puzzle
ORGANIZER;CN=biztributor:mailto:marketing@biztributor.hu
URL;VALUE=URI:https://biztributor.hu/esemenyek/cyber-monsters-trabant-puzzle/
TRANSP:OPAQUE
PRIORITY:5
END:VEVENT
END:VCALENDAR