BEGIN:VCALENDAR
PRODID:-//biztributor//NONSGML biztributor//HU
VERSION:2.0
X-WR-CALNAME:biztributor
BEGIN:VTIMEZONE
TZID:Central Europe Standard Time
BEGIN:STANDARD
DTSTART:16011028T030000
RRULE:FREQ=YEARLY;BYDAY=-1SU;BYMONTH=10
TZOFFSETFROM:+0200
TZOFFSETTO:+0100
TZNAME:CET
END:STANDARD
BEGIN:DAYLIGHT
DTSTART:16010325T020000
RRULE:FREQ=YEARLY;BYDAY=-1SU;BYMONTH=3
TZOFFSETFROM:+0100
TZOFFSETTO:+0200
TZNAME:CEST
END:DAYLIGHT
END:VTIMEZONE
BEGIN:VEVENT
CREATED:20250213T080057Z
LAST-MODIFIED:20250728T085007Z
UID:21473-20250213T090000@biztributor.hu
DTSTART;TZID=Central Europe Standard Time:20250213T090000
DTEND;TZID=Central Europe Standard Time:20250213T100000
DTSTAMP:20260420T082833Z
LOCATION:Zoom webinar
DESCRIPTION:NIS2in1 Mesterhármas webinar 1. rész - Bitdefender
SUMMARY;LANGUAGE=hu:NIS2in1 Mesterhármas 1. rész – Bitdefender
ORGANIZER;CN=biztributor:mailto:marketing@biztributor.hu
URL;VALUE=URI:https://biztributor.hu/esemenyek/nis2in1-webinarsorozat-1-resz-bitdefender/
TRANSP:OPAQUE
PRIORITY:5
END:VEVENT
END:VCALENDAR