BEGIN:VCALENDAR
PRODID:-//biztributor//NONSGML biztributor//HU
VERSION:2.0
X-WR-CALNAME:biztributor
BEGIN:VTIMEZONE
TZID:Central Europe Standard Time
BEGIN:STANDARD
DTSTART:16011028T030000
RRULE:FREQ=YEARLY;BYDAY=-1SU;BYMONTH=10
TZOFFSETFROM:+0200
TZOFFSETTO:+0100
TZNAME:CET
END:STANDARD
BEGIN:DAYLIGHT
DTSTART:16010325T020000
RRULE:FREQ=YEARLY;BYDAY=-1SU;BYMONTH=3
TZOFFSETFROM:+0100
TZOFFSETTO:+0200
TZNAME:CEST
END:DAYLIGHT
END:VTIMEZONE
BEGIN:VEVENT
CREATED:20250717T070012Z
LAST-MODIFIED:20250728T092632Z
UID:24618-20250717T090000@biztributor.hu
DTSTART;TZID=Central Europe Standard Time:20250717T090000
DTEND;TZID=Central Europe Standard Time:20250717T100000
DTSTAMP:20260421T083012Z
LOCATION:Zoom webinar
DESCRIPTION:Cool webinarsorozat: SecureVisio: széttöredezett biztonsági r
 endszerek helyett egységes védelem – egy platformon
SUMMARY;LANGUAGE=hu:Cool webinarsorozat: SecureVisio: széttöredezett biztonsági rendszerek helyett egységes védelem – egy platformon
ORGANIZER;CN=biztributor:mailto:marketing@biztributor.hu
URL;VALUE=URI:https://biztributor.hu/esemenyek/cool-webinarsorozat-securevisio-szettoredezett-biztonsagi-rendszerek-helyett-egyseges-vedelem-egy-platformon/
TRANSP:OPAQUE
PRIORITY:5
END:VEVENT
END:VCALENDAR